{
 "currentVersion": 11.3,
 "serviceDescription": "crfRaster",
 "name": "crfRaster",
 "description": "",
 "extent": {
  "xmin": 1.189482459362599E7,
  "ymin": 3861903.222751679,
  "xmax": 1.2003976670017222E7,
  "ymax": 3933755.2236683113,
  "spatialReference": {
   "wkid": 102100,
   "latestWkid": 3857
  }
 },
 "initialExtent": {
  "xmin": 1.189482459362599E7,
  "ymin": 3861903.222751679,
  "xmax": 1.2003976670017222E7,
  "ymax": 3933755.2236683113,
  "spatialReference": {
   "wkid": 102100,
   "latestWkid": 3857
  }
 },
 "fullExtent": {
  "xmin": 1.189482459362599E7,
  "ymin": 3861903.222751679,
  "xmax": 1.2003976670017222E7,
  "ymax": 3933755.2236683113,
  "spatialReference": {
   "wkid": 102100,
   "latestWkid": 3857
  }
 },
 "sortableFields": "",
 "bandCount": 3,
 "pixelType": "U8",
 "minValues": [
  0,
  0,
  0
 ],
 "maxValues": [
  255,
  255,
  255
 ],
 "meanValues": [
  74.29491209686053,
  83.81515346103899,
  60.1547163686871
 ],
 "stdvValues": [
  41.034647972731115,
  31.895535070687266,
  30.395851576256597
 ],
 "hasMultidimensions": false,
 "pixelSizeX": 1.1943285669558743,
 "pixelSizeY": 1.1943285669558743,
 "meanPixelSize": 1.1943285669558743,
 "datasetFormat": "Cache/LERC2D",
 "uncompressedSize": 16494702336,
 "blockWidth": 256,
 "blockHeight": 256,
 "compressionType": "LERC2D",
 "bandNames": [
  "Band_1",
  "Band_2",
  "Band_3"
 ],
 "allowCopy": true,
 "allowAnalysis": true,
 "itemAccess": false,
 "inspectionCapabilities": "",
 "minPixelSize": 0,
 "maxPixelSize": 0,
 "copyrightText": "",
 "serviceDataType": "esriImageServiceDataTypeRGB",
 "serviceSourceType": "esriImageServiceSourceTypeDataset",
 "objectIdField": "",
 "fields": [],
 "capabilities": "Image,Metadata,Mensuration",
 "defaultMosaicMethod": "Center",
 "allowedMosaicMethods": "",
 "sortField": "",
 "sortValue": null,
 "sortAscending": true,
 "mosaicOperator": "First",
 "defaultCompressionQuality": 75,
 "defaultResamplingMethod": "Bilinear",
 "maxImageHeight": 4100,
 "maxImageWidth": 15000,
 "singleFusedMapCache": true,
 "tileInfo": {
  "rows": 256,
  "cols": 256,
  "dpi": 96,
  "format": "LERC2D",
  "compressionQuality": 100000,
  "lercError": 0.1,
  "origin": {
   "x": 1.189482459362599E7,
   "y": 3933755.2236683113
  },
  "spatialReference": {
   "wkid": 102100,
   "latestWkid": 3857
  },
  "lods": [
   {
    "level": 0,
    "resolution": 305.7481131407038,
    "scale": 1155581.108577553
   },
   {
    "level": 1,
    "resolution": 152.8740565703519,
    "scale": 577790.5542887765
   },
   {
    "level": 2,
    "resolution": 76.43702828517596,
    "scale": 288895.27714438824
   },
   {
    "level": 3,
    "resolution": 38.21851414258798,
    "scale": 144447.63857219412
   },
   {
    "level": 4,
    "resolution": 19.10925707129399,
    "scale": 72223.81928609706
   },
   {
    "level": 5,
    "resolution": 9.554628535646994,
    "scale": 36111.90964304853
   },
   {
    "level": 6,
    "resolution": 4.777314267823497,
    "scale": 18055.954821524265
   },
   {
    "level": 7,
    "resolution": 2.3886571339117486,
    "scale": 9027.977410762132
   },
   {
    "level": 8,
    "resolution": 1.1943285669558743,
    "scale": 4513.988705381066
   }
  ]
 },
 "storageInfo": {
  "storageFormat": "esriMapCacheStorageModeCompactV2",
  "packetSize": 16
 },
 "cacheType": "Raster",
 "allowRasterFunction": true,
 "rasterFunctionInfos": [
  {
   "name": "None",
   "description": "",
   "help": ""
  }
 ],
 "rasterTypeInfos": [
  {
   "name": "Raster Dataset",
   "description": "Supports all ArcGIS Raster Datasets",
   "help": ""
  }
 ],
 "mensurationCapabilities": "Basic",
 "hasHistograms": true,
 "hasColormap": false,
 "hasRasterAttributeTable": false,
 "minScale": 5.91657527591555E8,
 "maxScale": 70.5310735,
 "exportTilesAllowed": false,
 "supportsStatistics": false,
 "supportsAdvancedQueries": false,
 "editFieldsInfo": null,
 "ownershipBasedAccessControlForRasters": null,
 "allowComputeTiePoints": false,
 "useStandardizedQueries": true,
 "advancedQueryCapabilities": {
  "useStandardizedQueries": true,
  "supportsStatistics": false,
  "supportsOrderBy": false,
  "supportsDistinct": false,
  "supportsPagination": false
 },
 "spatialReference": {
  "wkid": 102100,
  "latestWkid": 3857
 }
}
