View In:
ArcGIS JavaScript
ArcGIS Online Map Viewer
ArcGIS Earth
Service Description: 洪水图层_4_WaterVelocity_crf
Name: 洪水图层_4_WaterVelocity_crf
Description:
Single Fused Map Cache: false
Extent:
XMin: 1.2927347835843366E7
YMin: 4858687.104129799
XMax: 1.292934355710816E7
YMax: 4860682.825394593
Spatial Reference: 102100
(3857)
Initial Extent:
XMin: 1.2927347835843366E7
YMin: 4858687.104129799
XMax: 1.292934355710816E7
YMax: 4860682.825394593
Spatial Reference: 102100
(3857)
Full Extent:
XMin: 1.2927347835843366E7
YMin: 4858687.104129799
XMax: 1.292934355710816E7
YMax: 4860682.825394593
Spatial Reference: 102100
(3857)
Time Info:
Start Time Field: StdTime
End Time Field: StdTime
Time Extent:
[2026/03/13 08:02:29 UTC, 2026/03/13 08:30:00 UTC]
Time Reference:
N/A
Pixel Size X: 0.48723663691271213
Pixel Size Y: 0.48723663691271213
Band Count: 2
Pixel Type: F32
RasterFunction Infos: {"rasterFunctionInfos": [{
"name": "None",
"description": "",
"help": ""
}]}
Mensuration Capabilities: Basic
Inspection Capabilities:
Has Histograms: true
Has Colormap: false
Has Multi Dimensions : true
Rendering Rule:
Min Scale: 0
Max Scale: 0
Copyright Text:
Service Data Type: esriImageServiceDataTypeVector-UV
Min Values: 0, 0
Max Values: 3.228201150894165, 3.8632900714874268
Mean Values: 0.003154649678270057, 0.00341285113477373
Standard Deviation Values: 0.03166592165590882, 0.03384962697859375
Object ID Field:
Fields:
None
Default Mosaic Method: Center
Allowed Mosaic Methods:
SortField:
SortValue: null
Mosaic Operator: First
Default Compression Quality: 75
Default Resampling Method: Bilinear
Max Record Count: null
Max Image Height: 4100
Max Image Width: 15000
Max Download Image Count: null
Max Mosaic Image Count: null
Allow Raster Function: true
Allow Copy: true
Allow Analysis: true
Allow Compute TiePoints: false
Supports Statistics: false
Supports Advanced Queries: false
Use StandardizedQueries: true
Raster Type Infos:
Name: Raster Dataset
Description: Supports all ArcGIS Raster Datasets
Help:
Has Raster Attribute Table: false
Edit Fields Info: null
Ownership Based AccessControl For Rasters: null
Child Resources:
Info
Histograms
Statistics
Key Properties
Legend
Raster Function Infos
Multidimensional Info
Slices
Supported Operations:
Export Image
Identify
Measure
Compute Histograms
Compute Statistics Histograms
Get Samples
Compute Class Statistics
Query Boundary
Compute Pixel Location
Compute Angles
Validate
Project