View In:
ArcGIS JavaScript
ArcGIS Online Map Viewer
ArcGIS Earth
Service Description: 洪水图层_1_WaterDepth_crf
Name: 洪水图层_1_WaterDepth_crf
Description:
Single Fused Map Cache: false
Extent:
XMin: 112.7715901039297
YMin: 23.996359591935374
XMax: 112.81507549728877
YMax: 24.03984498529445
Spatial Reference: 4326
(4326)
Initial Extent:
XMin: 112.7715901039297
YMin: 23.996359591935374
XMax: 112.81507549728877
YMax: 24.03984498529445
Spatial Reference: 4326
(4326)
Full Extent:
XMin: 112.7715901039297
YMin: 23.996359591935374
XMax: 112.81507549728877
YMax: 24.03984498529445
Spatial Reference: 4326
(4326)
Time Info:
Start Time Field: StdTime
End Time Field: StdTime
Time Extent:
[2026/01/07 10:04:59 UTC, 2026/01/07 11:00:00 UTC]
Time Reference:
N/A
Pixel Size X: 1.0616551113055983E-5
Pixel Size Y: 1.0616551113055983E-5
Band Count: 1
Pixel Type: F32
RasterFunction Infos: {"rasterFunctionInfos": [{
"name": "None",
"description": "",
"help": ""
}]}
Mensuration Capabilities: Basic
Inspection Capabilities:
Has Histograms: true
Has Colormap: false
Has Multi Dimensions : true
Rendering Rule:
Min Scale: 0
Max Scale: 0
Copyright Text:
Service Data Type: esriImageServiceDataTypeGeneric
Min Values: 0
Max Values: 11.843147277832031
Mean Values: 0.05837802430512797
Standard Deviation Values: 0.35368028631010245
Object ID Field:
Fields:
None
Default Mosaic Method: Center
Allowed Mosaic Methods:
SortField:
SortValue: null
Mosaic Operator: First
Default Compression Quality: 75
Default Resampling Method: Bilinear
Max Record Count: null
Max Image Height: 4100
Max Image Width: 15000
Max Download Image Count: null
Max Mosaic Image Count: null
Allow Raster Function: true
Allow Copy: true
Allow Analysis: true
Allow Compute TiePoints: false
Supports Statistics: false
Supports Advanced Queries: false
Use StandardizedQueries: true
Raster Type Infos:
Name: Raster Dataset
Description: Supports all ArcGIS Raster Datasets
Help:
Has Raster Attribute Table: false
Edit Fields Info: null
Ownership Based AccessControl For Rasters: null
Child Resources:
Info
Histograms
Statistics
Key Properties
Legend
Raster Function Infos
Multidimensional Info
Slices
Supported Operations:
Export Image
Identify
Measure
Compute Histograms
Compute Statistics Histograms
Get Samples
Compute Class Statistics
Query Boundary
Compute Pixel Location
Compute Angles
Validate
Project