View In:
ArcGIS JavaScript
ArcGIS Online Map Viewer
ArcGIS Earth
Service Description: 洪水图层_2_WaterVelocity_crf
Name: 洪水图层_2_WaterVelocity_crf
Description:
Single Fused Map Cache: false
Extent:
XMin: 1.2913287084988842E7
YMin: 4841863.005214367
XMax: 1.2919638524179438E7
YMax: 4848214.444404963
Spatial Reference: 102100
(3857)
Initial Extent:
XMin: 1.2913287084988842E7
YMin: 4841863.005214367
XMax: 1.2919638524179438E7
YMax: 4848214.444404963
Spatial Reference: 102100
(3857)
Full Extent:
XMin: 1.2913287084988842E7
YMin: 4841863.005214367
XMax: 1.2919638524179438E7
YMax: 4848214.444404963
Spatial Reference: 102100
(3857)
Time Info:
Start Time Field: StdTime
End Time Field: StdTime
Time Extent:
[2026/03/11 17:02:29 UTC, 2026/03/11 17:30:00 UTC]
Time Reference:
N/A
Pixel Size X: 1.5878597976490856
Pixel Size Y: 1.5878597976490856
Band Count: 2
Pixel Type: F32
RasterFunction Infos: {"rasterFunctionInfos": [{
"name": "None",
"description": "",
"help": ""
}]}
Mensuration Capabilities: Basic
Inspection Capabilities:
Has Histograms: true
Has Colormap: false
Has Multi Dimensions : true
Rendering Rule:
Min Scale: 0
Max Scale: 0
Copyright Text:
Service Data Type: esriImageServiceDataTypeVector-UV
Min Values: 0, 0
Max Values: 35.83158493041992, 43.136539459228516
Mean Values: 0.012759849847008058, 0.02968842867966569
Standard Deviation Values: 0.2543741014087226, 0.44624883564019363
Object ID Field:
Fields:
None
Default Mosaic Method: Center
Allowed Mosaic Methods:
SortField:
SortValue: null
Mosaic Operator: First
Default Compression Quality: 75
Default Resampling Method: Bilinear
Max Record Count: null
Max Image Height: 4100
Max Image Width: 15000
Max Download Image Count: null
Max Mosaic Image Count: null
Allow Raster Function: true
Allow Copy: true
Allow Analysis: true
Allow Compute TiePoints: false
Supports Statistics: false
Supports Advanced Queries: false
Use StandardizedQueries: true
Raster Type Infos:
Name: Raster Dataset
Description: Supports all ArcGIS Raster Datasets
Help:
Has Raster Attribute Table: false
Edit Fields Info: null
Ownership Based AccessControl For Rasters: null
Child Resources:
Info
Histograms
Statistics
Key Properties
Legend
Raster Function Infos
Multidimensional Info
Slices
Supported Operations:
Export Image
Identify
Measure
Compute Histograms
Compute Statistics Histograms
Get Samples
Compute Class Statistics
Query Boundary
Compute Pixel Location
Compute Angles
Validate
Project