View In:
ArcGIS JavaScript
ArcGIS Online Map Viewer
ArcGIS Earth
ArcGIS Pro
Service Description:
Map Name: World Cities Population wkt
Legend
All Layers and Tables
Layers:
Description:
Service Item Id: 8f173c2ca5204b6c8ee1cc934beb5992
Copyright Text:
Spatial Reference:
PROJCS["GUANGZHOU2000",GEOGCS["GCS_China_Geodetic_Coordinate_System_2000",DATUM["D_China_2000",SPHEROID["CGCS2000",6378137.0,298.257222101]],PRIMEM["Greenwich",0.0],UNIT["Degree",0.0174532925199433]],PROJECTION["Gauss_Kruger"],PARAMETER["False_Easting",0.0],PARAMETER["False_Northing",0.0],PARAMETER["Central_Meridian",113.28],PARAMETER["Scale_Factor",1.0],PARAMETER["Latitude_Of_Origin",0.0],UNIT["Meter",1.0]]
Single Fused Map Cache: true
Tile Info:
- Height: 256
- Width: 256
- DPI: 96
-
Levels of Detail: 19
-
Level ID: 0
[ Start Tile, End Tile ]
- Resolution: 78140.34944709402
- Scale: 2.9533360420948917E8
-
Level ID: 1
[ Start Tile, End Tile ]
- Resolution: 39070.17472354701
- Scale: 1.4766680210474458E8
-
Level ID: 2
[ Start Tile, End Tile ]
- Resolution: 19535.087361773505
- Scale: 7.383340105237229E7
-
Level ID: 3
[ Start Tile, End Tile ]
- Resolution: 9767.543680886753
- Scale: 3.6916700526186146E7
-
Level ID: 4
[ Start Tile, End Tile ]
- Resolution: 4883.771840443376
- Scale: 1.8458350263093073E7
-
Level ID: 5
[ Start Tile, End Tile ]
- Resolution: 2441.885920221688
- Scale: 9229175.131546536
-
Level ID: 6
[ Start Tile, End Tile ]
- Resolution: 1220.942960110844
- Scale: 4614587.565773268
-
Level ID: 7
[ Start Tile, End Tile ]
- Resolution: 610.471480055422
- Scale: 2307293.782886634
-
Level ID: 8
[ Start Tile, End Tile ]
- Resolution: 305.235740027711
- Scale: 1153646.891443317
-
Level ID: 9
[ Start Tile, End Tile ]
- Resolution: 152.6178700138555
- Scale: 576823.4457216585
-
Level ID: 10
[ Start Tile, End Tile ]
- Resolution: 76.30893500692775
- Scale: 288411.72286082926
-
Level ID: 11
[ Start Tile, End Tile ]
- Resolution: 38.15446750346388
- Scale: 144205.86143041463
-
Level ID: 12
[ Start Tile, End Tile ]
- Resolution: 19.07723375173194
- Scale: 72102.93071520732
-
Level ID: 13
[ Start Tile, End Tile ]
- Resolution: 9.53861687586597
- Scale: 36051.46535760366
-
Level ID: 14
[ Start Tile, End Tile ]
- Resolution: 4.769308437932985
- Scale: 18025.73267880183
-
Level ID: 15
[ Start Tile, End Tile ]
- Resolution: 2.3846542189664923
- Scale: 9012.866339400915
-
Level ID: 16
[ Start Tile, End Tile ]
- Resolution: 1.1923271094832462
- Scale: 4506.433169700457
-
Level ID: 17
[ Start Tile, End Tile ]
- Resolution: 0.5961635547416231
- Scale: 2253.2165848502286
-
Level ID: 18
[ Start Tile, End Tile ]
- Resolution: 0.29808177737081154
- Scale: 1126.6082924251143
- Format: PNG
- Compression Quality: 0.0
- Origin: X: -1.0001964729228035E7
Y: 1.0001964729228035E7
- Spatial Reference: PROJCS["GUANGZHOU2000",GEOGCS["GCS_China_Geodetic_Coordinate_System_2000",DATUM["D_China_2000",SPHEROID["CGCS2000",6378137.0,298.257222101]],PRIMEM["Greenwich",0.0],UNIT["Degree",0.0174532925199433]],PROJECTION["Gauss_Kruger"],PARAMETER["False_Easting",0.0],PARAMETER["False_Northing",0.0],PARAMETER["Central_Meridian",113.28],PARAMETER["Scale_Factor",1.0],PARAMETER["Latitude_Of_Origin",0.0],UNIT["Meter",1.0]]
Storage Info:
- Storage Format: esriMapCacheStorageModeCompact
- Packet Size: 128
Initial Extent:
XMin: -5623012.972897341
YMin: -1.0001964729228035E7
XMax: 5623012.972770761
YMax: 1.0001964729228035E7
Spatial Reference: PROJCS["GUANGZHOU2000",GEOGCS["GCS_China_Geodetic_Coordinate_System_2000",DATUM["D_China_2000",SPHEROID["CGCS2000",6378137.0,298.257222101]],PRIMEM["Greenwich",0.0],UNIT["Degree",0.0174532925199433]],PROJECTION["Gauss_Kruger"],PARAMETER["False_Easting",0.0],PARAMETER["False_Northing",0.0],PARAMETER["Central_Meridian",113.28],PARAMETER["Scale_Factor",1.0],PARAMETER["Latitude_Of_Origin",0.0],UNIT["Meter",1.0]]
Full Extent:
XMin: -5623012.972897341
YMin: -1.0001964729228035E7
XMax: 5623012.972770761
YMax: 1.0001964729228035E7
Spatial Reference: PROJCS["GUANGZHOU2000",GEOGCS["GCS_China_Geodetic_Coordinate_System_2000",DATUM["D_China_2000",SPHEROID["CGCS2000",6378137.0,298.257222101]],PRIMEM["Greenwich",0.0],UNIT["Degree",0.0174532925199433]],PROJECTION["Gauss_Kruger"],PARAMETER["False_Easting",0.0],PARAMETER["False_Northing",0.0],PARAMETER["Central_Meridian",113.28],PARAMETER["Scale_Factor",1.0],PARAMETER["Latitude_Of_Origin",0.0],UNIT["Meter",1.0]]
Units: esriMeters
Supported Image Format Types: PNG32,PNG24,PNG,JPG,DIB,TIFF,EMF,PS,PDF,GIF,SVG,SVGZ,BMP
Document Info:
Title: World Cities Population wkt
Author:
Comments:
Subject:
Category:
Keywords:
AntialiasingMode: None
TextAntialiasingMode: Force
Supports Dynamic Layers: false
MaxRecordCount: 1000
MaxImageHeight: 4096
MaxImageWidth: 4096
Supported Query Formats: JSON, geoJSON, PBF
Supports Query Data Elements: true
Min Scale: 0
Max Scale: 0
Min LOD: 0
Max LOD: 8
Supports Datum Transformation: true
Child Resources:
Info
Supported Operations:
QueryLegends
Return Updates