View In:
ArcGIS JavaScript
ArcGIS Online Map Viewer
ArcGIS Earth
Service Description: VectorField_u100_v100_crf
Name: VectorField_u100_v100_crf
Description:
Single Fused Map Cache: false
Extent:
XMin: 75.875
YMin: 24.875
XMax: 100.125
YMax: 38.125
Spatial Reference: 4326
(4326)
Initial Extent:
XMin: 75.875
YMin: 24.875
XMax: 100.125
YMax: 38.125
Spatial Reference: 4326
(4326)
Full Extent:
XMin: 75.875
YMin: 24.875
XMax: 100.125
YMax: 38.125
Spatial Reference: 4326
(4326)
Time Info:
Start Time Field: StdTime
End Time Field: StdTime
Time Extent:
[2024/11/01 00:00:00 UTC, 2024/11/30 23:00:00 UTC]
Time Reference:
N/A
Pixel Size X: 0.25
Pixel Size Y: 0.25
Band Count: 2
Pixel Type: F32
RasterFunction Infos: {"rasterFunctionInfos": [{
"name": "None",
"description": "",
"help": ""
}]}
Mensuration Capabilities: Basic
Inspection Capabilities:
Has Histograms: true
Has Colormap: false
Has Multi Dimensions : true
Rendering Rule:
Min Scale: 0
Max Scale: 0
Copyright Text:
Service Data Type: esriImageServiceDataTypeVector-UV
Min Values: -13.774490356445312, -13.264556884765625
Max Values: 18.684310913085938, 10.930221557617188
Mean Values: 1.4716038226864894, 0.4492253670351018
Standard Deviation Values: 2.9624410113409505, 2.1689938985637816
Object ID Field:
Fields:
None
Default Mosaic Method: Center
Allowed Mosaic Methods:
SortField:
SortValue: null
Mosaic Operator: First
Default Compression Quality: 75
Default Resampling Method: Bilinear
Max Record Count: null
Max Image Height: 4100
Max Image Width: 15000
Max Download Image Count: null
Max Mosaic Image Count: null
Allow Raster Function: true
Allow Copy: true
Allow Analysis: true
Allow Compute TiePoints: false
Supports Statistics: false
Supports Advanced Queries: false
Use StandardizedQueries: true
Raster Type Infos:
Name: Raster Dataset
Description: Supports all ArcGIS Raster Datasets
Help:
Has Raster Attribute Table: false
Edit Fields Info: null
Ownership Based AccessControl For Rasters: null
Child Resources:
Info
Histograms
Statistics
Key Properties
Legend
Raster Function Infos
Multidimensional Info
Slices
Supported Operations:
Export Image
Identify
Measure
Compute Histograms
Compute Statistics Histograms
Get Samples
Compute Class Statistics
Query Boundary
Compute Pixel Location
Compute Angles
Validate
Project